BEGIN:VCALENDAR
VERSION:2.0
PRODID:-//ExhibitionMatches.com//NONSGML v1.0//EN
BEGIN:VEVENT
UID=7CEBF8A7-EE16-EDE7-D5B38BBE3CC41CE6
DTSTAMP=20260424T083233Z
DTSTART;VALUE=DATE:20260523
DTEND;VALUE=DATE:20260524
SUMMARY:Relentless Open
LOCATION:Stratford High School, 951 Crowfield Blvd., Goose Creek, SC, 29445
DESCRIPTION:View full event details: https://wrestlingtournaments.org/view.cfm?ID=107016
Contact: Philip Price philip.price.8279@gmail.com
URL;VALUE=URI:https://wrestlingtournaments.org/view.cfm?ID=107016
END:VEVENT
END:VCALENDAR